Package: pgca Version: 1.28.0 Command: rm -rf pgca.buildbin-libdir && mkdir pgca.buildbin-libdir && /Users/biocbuild/BBS/utils/build-universal.sh pgca_1.28.0.tar.gz /Library/Frameworks/R.framework/Resources/bin/R pgca.buildbin-libdir StartedAt: 2024-10-18 19:55:55 -0400 (Fri, 18 Oct 2024) EndedAt: 2024-10-18 19:55:59 -0400 (Fri, 18 Oct 2024) EllapsedTime: 4.6 seconds RetCode: 0 Status: OK PackageFile: pgca_1.28.0.tgz PackageFileSize: 145.1 KiB