Package: pgca Version: 1.28.0 Maintainer: Gabriela Cohen-Freue MaintainerEmail: gcohen at stat.ubc.ca git_url: https://git.bioconductor.org/packages/pgca git_branch: RELEASE_3_19 git_last_commit: 6de7599 git_last_commit_date: 2024-04-30 10:58:09 -0400 (Tue, 30 Apr 2024)