Package: pfamAnalyzeR Version: 1.4.0 Command: /Library/Frameworks/R.framework/Resources/bin/R CMD build --keep-empty-dirs --no-resave-data pfamAnalyzeR StartedAt: 2024-10-16 22:02:18 -0400 (Wed, 16 Oct 2024) EndedAt: 2024-10-16 22:02:39 -0400 (Wed, 16 Oct 2024) EllapsedTime: 21.2 seconds RetCode: 0 Status: OK PackageFile: pfamAnalyzeR_1.4.0.tar.gz PackageFileSize: 351.8 KiB