Package: pfamAnalyzeR Version: 1.4.0 Command: /Library/Frameworks/R.framework/Resources/bin/R CMD check --install=check:pfamAnalyzeR.install-out.txt --library=/Library/Frameworks/R.framework/Resources/library --no-vignettes --timings pfamAnalyzeR_1.4.0.tar.gz StartedAt: 2024-06-11 01:09:07 -0400 (Tue, 11 Jun 2024) EndedAt: 2024-06-11 01:10:11 -0400 (Tue, 11 Jun 2024) EllapsedTime: 63.7 seconds RetCode: 0 Status: OK CheckDir: pfamAnalyzeR.Rcheck Warnings: 0