Package: pfamAnalyzeR Version: 1.4.0 Maintainer: Kristoffer Vitting-Seerup MaintainerEmail: k.vitting.seerup at gmail.com git_url: https://git.bioconductor.org/packages/pfamAnalyzeR git_branch: RELEASE_3_19 git_last_commit: db14d0c git_last_commit_date: 2024-04-30 11:49:26 -0400 (Tue, 30 Apr 2024)