Package: periodicDNA Version: 1.14.0 Command: /home/biocbuild/bbs-3.19-bioc/R/bin/R CMD build --keep-empty-dirs --no-resave-data periodicDNA StartedAt: 2024-10-16 20:06:45 -0400 (Wed, 16 Oct 2024) EndedAt: 2024-10-16 20:08:21 -0400 (Wed, 16 Oct 2024) EllapsedTime: 96.2 seconds RetCode: 0 Status: OK PackageFile: periodicDNA_1.14.0.tar.gz PackageFileSize: 2.914 MiB