Package: periodicDNA Version: 1.14.0 Command: /Library/Frameworks/R.framework/Resources/bin/R CMD check --install=check:periodicDNA.install-out.txt --library=/Library/Frameworks/R.framework/Resources/library --no-vignettes --timings periodicDNA_1.14.0.tar.gz StartedAt: 2024-10-17 10:47:10 -0400 (Thu, 17 Oct 2024) EndedAt: 2024-10-17 10:59:22 -0400 (Thu, 17 Oct 2024) EllapsedTime: 732.0 seconds RetCode: 0 Status: WARNINGS CheckDir: periodicDNA.Rcheck Warnings: 1