Package: periodicDNA Version: 1.14.0 Command: /Library/Frameworks/R.framework/Resources/bin/R CMD build --keep-empty-dirs --no-resave-data periodicDNA StartedAt: 2024-10-16 22:02:00 -0400 (Wed, 16 Oct 2024) EndedAt: 2024-10-16 22:06:30 -0400 (Wed, 16 Oct 2024) EllapsedTime: 269.9 seconds RetCode: 0 Status: OK PackageFile: periodicDNA_1.14.0.tar.gz PackageFileSize: 2.962 MiB