Package: periodicDNA Version: 1.14.0 Command: /Library/Frameworks/R.framework/Resources/bin/R CMD build --keep-empty-dirs --no-resave-data periodicDNA StartedAt: 2024-06-09 17:42:17 -0400 (Sun, 09 Jun 2024) EndedAt: 2024-06-09 17:44:16 -0400 (Sun, 09 Jun 2024) EllapsedTime: 118.8 seconds RetCode: 0 Status: OK PackageFile: periodicDNA_1.14.0.tar.gz PackageFileSize: 2.962 MiB