Package: pepXMLTab Version: 1.38.0 Command: /home/biocbuild/R/R-beta-2024-04-15_r86425/bin/R CMD check --install=check:pepXMLTab.install-out.txt --library=/home/biocbuild/R/R-beta-2024-04-15_r86425/site-library --no-vignettes --timings pepXMLTab_1.38.0.tar.gz StartedAt: 2024-05-09 10:30:03 -0000 (Thu, 09 May 2024) EndedAt: 2024-05-09 10:30:31 -0000 (Thu, 09 May 2024) EllapsedTime: 28.1 seconds RetCode: 0 Status: OK CheckDir: pepXMLTab.Rcheck Warnings: 0