Package: pepXMLTab Version: 1.38.0 Maintainer: Xiaojing Wang MaintainerEmail: xiaojing.wang at vanderbilt.edu git_url: https://git.bioconductor.org/packages/pepXMLTab git_branch: RELEASE_3_19 git_last_commit: 421cd31 git_last_commit_date: 2024-04-30 10:40:37 -0400 (Tue, 30 Apr 2024)