Package: pepStat Version: 1.38.0 Command: rm -rf pepStat.buildbin-libdir && mkdir pepStat.buildbin-libdir && E:\biocbuild\bbs-3.19-bioc\R\bin\R.exe CMD INSTALL --build --library=pepStat.buildbin-libdir pepStat_1.38.0.tar.gz StartedAt: 2024-10-17 08:20:17 -0400 (Thu, 17 Oct 2024) EndedAt: 2024-10-17 08:21:04 -0400 (Thu, 17 Oct 2024) EllapsedTime: 47.2 seconds RetCode: 0 Status: OK PackageFile: pepStat_1.38.0.zip PackageFileSize: 716.4 KiB