Package: pepStat Version: 1.38.0 Command: chmod a+r pepStat -R && F:\biocbuild\bbs-3.19-bioc\R\bin\R.exe CMD build --keep-empty-dirs --no-resave-data pepStat StartedAt: 2024-06-26 20:56:42 -0400 (Wed, 26 Jun 2024) EndedAt: 2024-06-26 20:58:31 -0400 (Wed, 26 Jun 2024) EllapsedTime: 108.4 seconds RetCode: 0 Status: OK PackageFile: pepStat_1.38.0.tar.gz PackageFileSize: 296.6 KiB