Package: pepStat Version: 1.38.0 Command: rm -rf pepStat.buildbin-libdir && mkdir pepStat.buildbin-libdir && F:\biocbuild\bbs-3.19-bioc\R\bin\R.exe CMD INSTALL --build --library=pepStat.buildbin-libdir pepStat_1.38.0.tar.gz StartedAt: 2024-06-27 08:39:53 -0400 (Thu, 27 Jun 2024) EndedAt: 2024-06-27 08:40:30 -0400 (Thu, 27 Jun 2024) EllapsedTime: 37.0 seconds RetCode: 0 Status: OK PackageFile: pepStat_1.38.0.zip PackageFileSize: 717.2 KiB