Package: pepStat Version: 1.38.0 Command: /Library/Frameworks/R.framework/Resources/bin/R CMD build --keep-empty-dirs --no-resave-data pepStat StartedAt: 2024-06-09 17:42:01 -0400 (Sun, 09 Jun 2024) EndedAt: 2024-06-09 17:43:10 -0400 (Sun, 09 Jun 2024) EllapsedTime: 68.7 seconds RetCode: 0 Status: OK PackageFile: pepStat_1.38.0.tar.gz PackageFileSize: 319.1 KiB