Package: pepStat Version: 1.38.0 Command: rm -rf pepStat.buildbin-libdir && mkdir pepStat.buildbin-libdir && /Users/biocbuild/BBS/utils/build-universal.sh pepStat_1.38.0.tar.gz /Library/Frameworks/R.framework/Resources/bin/R pepStat.buildbin-libdir StartedAt: 2024-06-10 00:31:56 -0400 (Mon, 10 Jun 2024) EndedAt: 2024-06-10 00:32:22 -0400 (Mon, 10 Jun 2024) EllapsedTime: 26.4 seconds RetCode: 0 Status: OK PackageFile: pepStat_1.38.0.tgz PackageFileSize: 736.8 KiB