Package: pepStat Version: 1.38.0 Command: /home/biocbuild/R/R-beta-2024-04-15_r86425/bin/R CMD check --install=check:pepStat.install-out.txt --library=/home/biocbuild/R/R-beta-2024-04-15_r86425/site-library --no-vignettes --timings pepStat_1.38.0.tar.gz StartedAt: 2024-05-09 10:30:03 -0000 (Thu, 09 May 2024) EndedAt: 2024-05-09 10:32:52 -0000 (Thu, 09 May 2024) EllapsedTime: 169.4 seconds RetCode: 0 Status: OK CheckDir: pepStat.Rcheck Warnings: 0