Package: pepStat Version: 1.38.0 Command: /Library/Frameworks/R.framework/Resources/bin/R CMD check --install=check:pepStat.install-out.txt --library=/Library/Frameworks/R.framework/Resources/library --no-vignettes --timings pepStat_1.38.0.tar.gz StartedAt: 2024-10-18 07:15:35 -0400 (Fri, 18 Oct 2024) EndedAt: 2024-10-18 07:18:14 -0400 (Fri, 18 Oct 2024) EllapsedTime: 158.8 seconds RetCode: 0 Status: OK CheckDir: pepStat.Rcheck Warnings: 0