Package: pengls Version: 1.10.0 Command: rm -rf pengls.buildbin-libdir && mkdir pengls.buildbin-libdir && /Users/biocbuild/BBS/utils/build-universal.sh pengls_1.10.0.tar.gz /Library/Frameworks/R.framework/Resources/bin/R pengls.buildbin-libdir StartedAt: 2024-10-17 16:49:32 -0400 (Thu, 17 Oct 2024) EndedAt: 2024-10-17 16:49:47 -0400 (Thu, 17 Oct 2024) EllapsedTime: 14.8 seconds RetCode: 0 Status: OK PackageFile: pengls_1.10.0.tgz PackageFileSize: 94.88 KiB