Package: pengls Version: 1.10.0 Command: /Library/Frameworks/R.framework/Resources/bin/R CMD INSTALL pengls StartedAt: 2024-06-09 15:31:44 -0400 (Sun, 09 Jun 2024) EndedAt: 2024-06-09 15:31:52 -0400 (Sun, 09 Jun 2024) EllapsedTime: 8.5 seconds RetCode: 0 Status: OK