Package: pengls Version: 1.10.0 Command: /Library/Frameworks/R.framework/Resources/bin/R CMD build --keep-empty-dirs --no-resave-data pengls StartedAt: 2024-06-09 17:41:44 -0400 (Sun, 09 Jun 2024) EndedAt: 2024-06-09 17:44:59 -0400 (Sun, 09 Jun 2024) EllapsedTime: 195.0 seconds RetCode: 0 Status: OK PackageFile: pengls_1.10.0.tar.gz PackageFileSize: 61.68 KiB