Package: pengls Version: 1.10.0 Command: rm -rf pengls.buildbin-libdir && mkdir pengls.buildbin-libdir && /Users/biocbuild/BBS/utils/build-universal.sh pengls_1.10.0.tar.gz /Library/Frameworks/R.framework/Resources/bin/R pengls.buildbin-libdir StartedAt: 2024-06-10 00:31:55 -0400 (Mon, 10 Jun 2024) EndedAt: 2024-06-10 00:32:04 -0400 (Mon, 10 Jun 2024) EllapsedTime: 9.1 seconds RetCode: 0 Status: OK PackageFile: pengls_1.10.0.tgz PackageFileSize: 94.89 KiB