Package: pengls Version: 1.10.0 Command: /home/biocbuild/R/R-beta-2024-04-15_r86425/bin/R CMD build --keep-empty-dirs --no-resave-data pengls StartedAt: 2024-05-09 02:27:48 -0000 (Thu, 09 May 2024) EndedAt: 2024-05-09 02:29:46 -0000 (Thu, 09 May 2024) EllapsedTime: 118.2 seconds RetCode: 0 Status: OK PackageFile: pengls_1.10.0.tar.gz PackageFileSize: 37.72 KiB