Package: pengls Version: 1.10.0 Command: /Library/Frameworks/R.framework/Resources/bin/R CMD build --keep-empty-dirs --no-resave-data pengls StartedAt: 2024-06-10 02:25:29 -0400 (Mon, 10 Jun 2024) EndedAt: 2024-06-10 02:32:06 -0400 (Mon, 10 Jun 2024) EllapsedTime: 396.8 seconds RetCode: 0 Status: OK PackageFile: pengls_1.10.0.tar.gz PackageFileSize: 61.6 KiB