Package: pengls Version: 1.10.0 Command: rm -rf pengls.buildbin-libdir && mkdir pengls.buildbin-libdir && /Users/biocbuild/BBS/utils/build-universal.sh pengls_1.10.0.tar.gz /Library/Frameworks/R.framework/Resources/bin/R pengls.buildbin-libdir StartedAt: 2024-06-11 12:29:56 -0400 (Tue, 11 Jun 2024) EndedAt: 2024-06-11 12:30:09 -0400 (Tue, 11 Jun 2024) EllapsedTime: 13.1 seconds RetCode: 0 Status: OK PackageFile: pengls_1.10.0.tgz PackageFileSize: 95.01 KiB