Package: pengls Version: 1.10.0 Command: /Library/Frameworks/R.framework/Resources/bin/R CMD INSTALL pengls StartedAt: 2024-10-16 17:56:55 -0400 (Wed, 16 Oct 2024) EndedAt: 2024-10-16 17:57:02 -0400 (Wed, 16 Oct 2024) EllapsedTime: 6.8 seconds RetCode: 0 Status: OK