Package: pengls Version: 1.10.0 Command: rm -rf pengls.buildbin-libdir && mkdir pengls.buildbin-libdir && /Users/biocbuild/BBS/utils/build-universal.sh pengls_1.10.0.tar.gz /Library/Frameworks/R.framework/Resources/bin/R pengls.buildbin-libdir StartedAt: 2024-10-18 19:55:34 -0400 (Fri, 18 Oct 2024) EndedAt: 2024-10-18 19:55:44 -0400 (Fri, 18 Oct 2024) EllapsedTime: 10.1 seconds RetCode: 0 Status: OK PackageFile: pengls_1.10.0.tgz PackageFileSize: 95.1 KiB