Package: peco Version: 1.16.0 Command: E:\biocbuild\bbs-3.19-bioc\R\bin\R.exe CMD INSTALL peco StartedAt: 2024-10-16 17:12:13 -0400 (Wed, 16 Oct 2024) EndedAt: 2024-10-16 17:12:48 -0400 (Wed, 16 Oct 2024) EllapsedTime: 35.0 seconds RetCode: 0 Status: OK