Package: peco Version: 1.16.0 Command: chmod a+r peco -R && E:\biocbuild\bbs-3.19-bioc\R\bin\R.exe CMD build --keep-empty-dirs --no-resave-data peco StartedAt: 2024-10-16 21:00:39 -0400 (Wed, 16 Oct 2024) EndedAt: 2024-10-16 21:05:08 -0400 (Wed, 16 Oct 2024) EllapsedTime: 269.0 seconds RetCode: 0 Status: OK PackageFile: peco_1.16.0.tar.gz PackageFileSize: 1.028 MiB