Package: peco Version: 1.16.0 Command: rm -rf peco.buildbin-libdir && mkdir peco.buildbin-libdir && E:\biocbuild\bbs-3.19-bioc\R\bin\R.exe CMD INSTALL --build --library=peco.buildbin-libdir peco_1.16.0.tar.gz StartedAt: 2024-10-17 08:20:09 -0400 (Thu, 17 Oct 2024) EndedAt: 2024-10-17 08:20:45 -0400 (Thu, 17 Oct 2024) EllapsedTime: 36.0 seconds RetCode: 0 Status: OK PackageFile: peco_1.16.0.zip PackageFileSize: 1.089 MiB