Package: peco Version: 1.16.0 Command: /Library/Frameworks/R.framework/Resources/bin/R CMD build --keep-empty-dirs --no-resave-data peco StartedAt: 2024-10-16 21:59:40 -0400 (Wed, 16 Oct 2024) EndedAt: 2024-10-16 22:06:29 -0400 (Wed, 16 Oct 2024) EllapsedTime: 409.1 seconds RetCode: 0 Status: OK PackageFile: peco_1.16.0.tar.gz PackageFileSize: 1.068 MiB