Package: peco Version: 1.16.0 Command: /Library/Frameworks/R.framework/Resources/bin/R CMD INSTALL peco StartedAt: 2024-06-09 15:38:57 -0400 (Sun, 09 Jun 2024) EndedAt: 2024-06-09 15:39:35 -0400 (Sun, 09 Jun 2024) EllapsedTime: 37.5 seconds RetCode: 0 Status: OK