Package: peco Version: 1.16.0 Command: /Library/Frameworks/R.framework/Resources/bin/R CMD build --keep-empty-dirs --no-resave-data peco StartedAt: 2024-06-10 02:25:04 -0400 (Mon, 10 Jun 2024) EndedAt: 2024-06-10 02:30:18 -0400 (Mon, 10 Jun 2024) EllapsedTime: 314.5 seconds RetCode: 0 Status: OK PackageFile: peco_1.16.0.tar.gz PackageFileSize: 1.068 MiB