Package: peco Version: 1.16.0 Maintainer: Chiaowen Joyce Hsiao MaintainerEmail: joyce.hsiao1 at gmail.com git_url: https://git.bioconductor.org/packages/peco git_branch: RELEASE_3_19 git_last_commit: 9f5b8e3 git_last_commit_date: 2024-04-30 11:22:28 -0400 (Tue, 30 Apr 2024)