Package: peakPantheR Version: 1.18.0 Command: E:\biocbuild\bbs-3.19-bioc\R\bin\R.exe CMD check --no-multiarch --install=check:peakPantheR.install-out.txt --library=E:\biocbuild\bbs-3.19-bioc\R\library --no-vignettes --timings peakPantheR_1.18.0.tar.gz StartedAt: 2024-10-17 04:22:37 -0400 (Thu, 17 Oct 2024) EndedAt: 2024-10-17 04:46:22 -0400 (Thu, 17 Oct 2024) EllapsedTime: 1424.9 seconds RetCode: 0 Status: OK CheckDir: peakPantheR.Rcheck Warnings: 0