Package: peakPantheR Version: 1.18.0 Command: chmod a+r peakPantheR -R && E:\biocbuild\bbs-3.19-bioc\R\bin\R.exe CMD build --keep-empty-dirs --no-resave-data peakPantheR StartedAt: 2024-10-16 21:00:12 -0400 (Wed, 16 Oct 2024) EndedAt: 2024-10-16 21:02:26 -0400 (Wed, 16 Oct 2024) EllapsedTime: 133.7 seconds RetCode: 0 Status: OK PackageFile: peakPantheR_1.18.0.tar.gz PackageFileSize: 3.926 MiB