Package: peakPantheR Version: 1.18.0 Command: /Library/Frameworks/R.framework/Resources/bin/R CMD check --install=check:peakPantheR.install-out.txt --library=/Library/Frameworks/R.framework/Resources/library --no-vignettes --timings peakPantheR_1.18.0.tar.gz StartedAt: 2024-07-04 09:50:00 -0400 (Thu, 04 Jul 2024) EndedAt: 2024-07-04 09:50:09 -0400 (Thu, 04 Jul 2024) EllapsedTime: 8.3 seconds RetCode: 1 Status: ERROR CheckDir: peakPantheR.Rcheck Warnings: NA