Package: peakPantheR Version: 1.18.0 Command: /Library/Frameworks/R.framework/Resources/bin/R CMD build --keep-empty-dirs --no-resave-data peakPantheR StartedAt: 2024-10-16 21:59:05 -0400 (Wed, 16 Oct 2024) EndedAt: 2024-10-16 21:59:47 -0400 (Wed, 16 Oct 2024) EllapsedTime: 41.9 seconds RetCode: 1 Status: ERROR PackageFile: None PackageFileSize: NA