Package: peakPantheR Version: 1.18.0 Command: /Library/Frameworks/R.framework/Resources/bin/R CMD check --install=check:peakPantheR.install-out.txt --library=/Library/Frameworks/R.framework/Resources/library --no-vignettes --timings peakPantheR_1.18.0.tar.gz StartedAt: 2024-06-09 22:09:59 -0400 (Sun, 09 Jun 2024) EndedAt: 2024-06-09 22:31:19 -0400 (Sun, 09 Jun 2024) EllapsedTime: 1280.7 seconds RetCode: 0 Status: OK CheckDir: peakPantheR.Rcheck Warnings: 0