Package: peakPantheR Version: 1.18.0 Command: rm -rf peakPantheR.buildbin-libdir && mkdir peakPantheR.buildbin-libdir && /Users/biocbuild/BBS/utils/build-universal.sh peakPantheR_1.18.0.tar.gz /Library/Frameworks/R.framework/Resources/bin/R peakPantheR.buildbin-libdir StartedAt: 2024-06-10 00:31:49 -0400 (Mon, 10 Jun 2024) EndedAt: 2024-06-10 00:32:07 -0400 (Mon, 10 Jun 2024) EllapsedTime: 18.3 seconds RetCode: 0 Status: OK PackageFile: peakPantheR_1.18.0.tgz PackageFileSize: 4.327 MiB