Package: peakPantheR Version: 1.18.0 Command: /home/biocbuild/R/R-beta-2024-04-15_r86425/bin/R CMD check --install=check:peakPantheR.install-out.txt --library=/home/biocbuild/R/R-beta-2024-04-15_r86425/site-library --no-vignettes --timings peakPantheR_1.18.0.tar.gz StartedAt: 2024-05-09 10:27:26 -0000 (Thu, 09 May 2024) EndedAt: 2024-05-09 10:52:34 -0000 (Thu, 09 May 2024) EllapsedTime: 1507.8 seconds RetCode: 1 Status: ERROR CheckDir: peakPantheR.Rcheck Warnings: NA