Package: peakPantheR Version: 1.18.0 Command: /Library/Frameworks/R.framework/Resources/bin/R CMD build --keep-empty-dirs --no-resave-data peakPantheR StartedAt: 2024-06-10 02:24:50 -0400 (Mon, 10 Jun 2024) EndedAt: 2024-06-10 02:25:14 -0400 (Mon, 10 Jun 2024) EllapsedTime: 24.4 seconds RetCode: 1 Status: ERROR PackageFile: None PackageFileSize: NA