Package: peakPantheR Version: 1.18.0 Command: rm -rf peakPantheR.buildbin-libdir && mkdir peakPantheR.buildbin-libdir && /Users/biocbuild/BBS/utils/build-universal.sh peakPantheR_1.18.0.tar.gz /Library/Frameworks/R.framework/Resources/bin/R peakPantheR.buildbin-libdir StartedAt: 2024-07-05 16:50:39 -0400 (Fri, 05 Jul 2024) EndedAt: 2024-07-05 16:50:54 -0400 (Fri, 05 Jul 2024) EllapsedTime: 14.7 seconds RetCode: 0 Status: OK PackageFile: peakPantheR_1.18.0.tgz PackageFileSize: 4.33 MiB