Package: pcxn Version: 2.26.0 Command: E:\biocbuild\bbs-3.19-bioc\R\bin\R.exe CMD check --no-multiarch --install=check:pcxn.install-out.txt --library=E:\biocbuild\bbs-3.19-bioc\R\library --no-vignettes --timings pcxn_2.26.0.tar.gz StartedAt: 2024-10-17 04:21:21 -0400 (Thu, 17 Oct 2024) EndedAt: 2024-10-17 04:22:20 -0400 (Thu, 17 Oct 2024) EllapsedTime: 59.1 seconds RetCode: 0 Status: OK CheckDir: pcxn.Rcheck Warnings: 0