Package: pcxn Version: 2.26.0 Command: /Library/Frameworks/R.framework/Resources/bin/R CMD build --keep-empty-dirs --no-resave-data pcxn StartedAt: 2024-06-09 17:41:12 -0400 (Sun, 09 Jun 2024) EndedAt: 2024-06-09 17:41:33 -0400 (Sun, 09 Jun 2024) EllapsedTime: 21.4 seconds RetCode: 0 Status: OK PackageFile: pcxn_2.26.0.tar.gz PackageFileSize: 154 KiB