Package: pcxn Version: 2.26.0 Command: /Library/Frameworks/R.framework/Resources/bin/R CMD INSTALL pcxn StartedAt: 2024-06-09 15:22:41 -0400 (Sun, 09 Jun 2024) EndedAt: 2024-06-09 15:22:46 -0400 (Sun, 09 Jun 2024) EllapsedTime: 4.8 seconds RetCode: 0 Status: OK