Package: pcxn Version: 2.26.0 Command: /Library/Frameworks/R.framework/Resources/bin/R CMD build --keep-empty-dirs --no-resave-data pcxn StartedAt: 2024-06-10 02:23:06 -0400 (Mon, 10 Jun 2024) EndedAt: 2024-06-10 02:23:37 -0400 (Mon, 10 Jun 2024) EllapsedTime: 31.7 seconds RetCode: 0 Status: OK PackageFile: pcxn_2.26.0.tar.gz PackageFileSize: 153.8 KiB