Package: pcaMethods Version: 1.96.0 Command: /home/biocbuild/R/R-beta-2024-04-15_r86425/bin/R CMD INSTALL pcaMethods StartedAt: 2024-05-08 20:06:52 -0000 (Wed, 08 May 2024) EndedAt: 2024-05-08 20:07:30 -0000 (Wed, 08 May 2024) EllapsedTime: 38.5 seconds RetCode: 0 Status: OK