Package: pcaMethods Version: 1.96.0 Command: rm -rf pcaMethods.buildbin-libdir && mkdir pcaMethods.buildbin-libdir && /Users/biocbuild/BBS/utils/build-universal.sh pcaMethods_1.96.0.tar.gz /Library/Frameworks/R.framework/Resources/bin/R pcaMethods.buildbin-libdir StartedAt: 2024-06-11 12:29:01 -0400 (Tue, 11 Jun 2024) EndedAt: 2024-06-11 12:29:33 -0400 (Tue, 11 Jun 2024) EllapsedTime: 32.2 seconds RetCode: 0 Status: OK PackageFile: pcaMethods_1.96.0.tgz PackageFileSize: 1.434 MiB