Package: pcaExplorer Version: 2.30.0 Command: /home/biocbuild/R/R-beta-2024-04-15_r86425/bin/R CMD build --keep-empty-dirs --no-resave-data pcaExplorer StartedAt: 2024-05-09 02:25:16 -0000 (Thu, 09 May 2024) EndedAt: 2024-05-09 02:27:46 -0000 (Thu, 09 May 2024) EllapsedTime: 150.2 seconds RetCode: 0 Status: OK PackageFile: pcaExplorer_2.30.0.tar.gz PackageFileSize: 9.382 MiB